BEGIN:VCALENDAR
VERSION:2.0
PRODID:-//Branch Collective Wellness - ECPv6.15.18//NONSGML v1.0//EN
CALSCALE:GREGORIAN
METHOD:PUBLISH
X-WR-CALNAME:Branch Collective Wellness
X-ORIGINAL-URL:https://branchcollectivewellness.com
X-WR-CALDESC:Events for Branch Collective Wellness
REFRESH-INTERVAL;VALUE=DURATION:PT1H
X-Robots-Tag:noindex
X-PUBLISHED-TTL:PT1H
BEGIN:VTIMEZONE
TZID:UTC
BEGIN:STANDARD
TZOFFSETFROM:+0000
TZOFFSETTO:+0000
TZNAME:UTC
DTSTART:20200101T000000
END:STANDARD
END:VTIMEZONE
BEGIN:VEVENT
DTSTART;TZID=UTC:20210615T100000
DTEND;TZID=UTC:20210615T113000
DTSTAMP:20260423T095529
CREATED:20210508T222129Z
LAST-MODIFIED:20210508T222129Z
UID:2414-1623751200-1623756600@branchcollectivewellness.com
SUMMARY:June 2021 Workshop - TBD
DESCRIPTION:Come join us for our very first workshop in over a year. So excited to get together.
URL:https://branchcollectivewellness.com/workshop/june-2021-workshop-tbd/
LOCATION:TBD
ORGANIZER;CN="Laura Lee":MAILTO:branchcollectivewellness@gmail.com
END:VEVENT
END:VCALENDAR